{ "currentVersion": 10.91, "cimVersion": "2.9.0", "serviceDescription": "
3 band imagery provided by Nearmap with 7.62 cm resolution. This imagery was flown June 19, 20, & 24, 2024.<\/span><\/span><\/p><\/div><\/div><\/div>",
"mapName": "Layers",
"description": " 3 band imagery provided by Nearmap with 7.62 cm resolution. This imagery was flown June 19, 20, & 24, 2024.<\/SPAN><\/SPAN><\/P><\/DIV><\/DIV><\/DIV>",
"copyrightText": "City of Penticton",
"supportsDynamicLayers": true,
"layers": [
{
"id": 1000,
"name": "Bounding Box",
"parentLayerId": -1,
"defaultVisibility": false,
"subLayerIds": null,
"minScale": 0,
"maxScale": 0,
"type": "Feature Layer",
"geometryType": "esriGeometryPolygon",
"supportsDynamicLegends": true
},
{
"id": 1001,
"name": "1:1000 Cache Area",
"parentLayerId": -1,
"defaultVisibility": false,
"subLayerIds": null,
"minScale": 0,
"maxScale": 0,
"type": "Feature Layer",
"geometryType": "esriGeometryPolygon",
"supportsDynamicLegends": true
},
{
"id": 1002,
"name": "1:100 Cache Area",
"parentLayerId": -1,
"defaultVisibility": false,
"subLayerIds": null,
"minScale": 2000000,
"maxScale": 0,
"type": "Feature Layer",
"geometryType": "esriGeometryPolygon",
"supportsDynamicLegends": true
},
{
"id": 1003,
"name": "1:500 Cache Area",
"parentLayerId": -1,
"defaultVisibility": false,
"subLayerIds": null,
"minScale": 500000,
"maxScale": 0,
"type": "Feature Layer",
"geometryType": "esriGeometryPolygon",
"supportsDynamicLegends": true
},
{
"id": 2000,
"name": "100k",
"parentLayerId": -1,
"defaultVisibility": true,
"subLayerIds": [
2001,
2002,
2003,
2004
],
"minScale": 0,
"maxScale": 75001,
"type": "Group Layer",
"supportsDynamicLegends": false
},
{
"id": 2001,
"name": "dra",
"parentLayerId": 2000,
"defaultVisibility": true,
"subLayerIds": null,
"minScale": 0,
"maxScale": 0,
"type": "Feature Layer",
"geometryType": "esriGeometryPolyline",
"supportsDynamicLegends": true
},
{
"id": 2002,
"name": "Gazetteer",
"parentLayerId": 2000,
"defaultVisibility": true,
"subLayerIds": null,
"minScale": 0,
"maxScale": 0,
"type": "Feature Layer",
"geometryType": "esriGeometryPoint",
"supportsDynamicLegends": true
},
{
"id": 2003,
"name": "BCParks",
"parentLayerId": 2000,
"defaultVisibility": false,
"subLayerIds": null,
"minScale": 0,
"maxScale": 0,
"type": "Feature Layer",
"geometryType": "esriGeometryPolygon",
"supportsDynamicLegends": true
},
{
"id": 2004,
"name": "FreshWaterAtlas",
"parentLayerId": 2000,
"defaultVisibility": true,
"subLayerIds": [
2005,
2006,
2007,
2008
],
"minScale": 0,
"maxScale": 0,
"type": "Group Layer",
"supportsDynamicLegends": false
},
{
"id": 2005,
"name": "Lake - Point",
"parentLayerId": 2004,
"defaultVisibility": true,
"subLayerIds": null,
"minScale": 0,
"maxScale": 0,
"type": "Feature Layer",
"geometryType": "esriGeometryPoint",
"supportsDynamicLegends": true
},
{
"id": 2006,
"name": "Rivers",
"parentLayerId": 2004,
"defaultVisibility": true,
"subLayerIds": null,
"minScale": 0,
"maxScale": 0,
"type": "Feature Layer",
"geometryType": "esriGeometryPolygon",
"supportsDynamicLegends": true
},
{
"id": 2007,
"name": "Lakes",
"parentLayerId": 2004,
"defaultVisibility": true,
"subLayerIds": null,
"minScale": 0,
"maxScale": 0,
"type": "Feature Layer",
"geometryType": "esriGeometryPolygon",
"supportsDynamicLegends": true
},
{
"id": 2008,
"name": "Streams",
"parentLayerId": 2004,
"defaultVisibility": true,
"subLayerIds": null,
"minScale": 100000,
"maxScale": 0,
"type": "Feature Layer",
"geometryType": "esriGeometryPolyline",
"supportsDynamicLegends": true
},
{
"id": 3000,
"name": "50k",
"parentLayerId": -1,
"defaultVisibility": true,
"subLayerIds": [
3001,
3002,
3003,
3004,
3005
],
"minScale": 75000,
"maxScale": 40000,
"type": "Group Layer",
"supportsDynamicLegends": false
},
{
"id": 3001,
"name": "dra",
"parentLayerId": 3000,
"defaultVisibility": true,
"subLayerIds": null,
"minScale": 0,
"maxScale": 0,
"type": "Feature Layer",
"geometryType": "esriGeometryPolyline",
"supportsDynamicLegends": true
},
{
"id": 3002,
"name": "Gazetteer",
"parentLayerId": 3000,
"defaultVisibility": true,
"subLayerIds": null,
"minScale": 0,
"maxScale": 0,
"type": "Feature Layer",
"geometryType": "esriGeometryPoint",
"supportsDynamicLegends": true
},
{
"id": 3003,
"name": "Street Road Name",
"parentLayerId": 3000,
"defaultVisibility": true,
"subLayerIds": null,
"minScale": 0,
"maxScale": 0,
"type": "Feature Layer",
"geometryType": "esriGeometryPolyline",
"supportsDynamicLegends": true
},
{
"id": 3004,
"name": "BCParks",
"parentLayerId": 3000,
"defaultVisibility": true,
"subLayerIds": null,
"minScale": 0,
"maxScale": 0,
"type": "Feature Layer",
"geometryType": "esriGeometryPolygon",
"supportsDynamicLegends": true
},
{
"id": 3005,
"name": "FreshWaterAtlas",
"parentLayerId": 3000,
"defaultVisibility": true,
"subLayerIds": [
3006,
3007,
3008,
3009
],
"minScale": 0,
"maxScale": 0,
"type": "Group Layer",
"supportsDynamicLegends": false
},
{
"id": 3006,
"name": "Lake - Point",
"parentLayerId": 3005,
"defaultVisibility": true,
"subLayerIds": null,
"minScale": 0,
"maxScale": 0,
"type": "Feature Layer",
"geometryType": "esriGeometryPoint",
"supportsDynamicLegends": true
},
{
"id": 3007,
"name": "Lakes",
"parentLayerId": 3005,
"defaultVisibility": true,
"subLayerIds": null,
"minScale": 0,
"maxScale": 0,
"type": "Feature Layer",
"geometryType": "esriGeometryPolygon",
"supportsDynamicLegends": true
},
{
"id": 3008,
"name": "Rivers",
"parentLayerId": 3005,
"defaultVisibility": true,
"subLayerIds": null,
"minScale": 0,
"maxScale": 0,
"type": "Feature Layer",
"geometryType": "esriGeometryPolygon",
"supportsDynamicLegends": true
},
{
"id": 3009,
"name": "Streams",
"parentLayerId": 3005,
"defaultVisibility": true,
"subLayerIds": null,
"minScale": 0,
"maxScale": 0,
"type": "Feature Layer",
"geometryType": "esriGeometryPolyline",
"supportsDynamicLegends": true
},
{
"id": 4000,
"name": "25k",
"parentLayerId": -1,
"defaultVisibility": true,
"subLayerIds": [
4001,
4002,
4003,
4004,
4005,
4006,
4007,
4008
],
"minScale": 39999,
"maxScale": 15001,
"type": "Group Layer",
"supportsDynamicLegends": false
},
{
"id": 4001,
"name": "dra",
"parentLayerId": 4000,
"defaultVisibility": true,
"subLayerIds": null,
"minScale": 0,
"maxScale": 0,
"type": "Feature Layer",
"geometryType": "esriGeometryPolyline",
"supportsDynamicLegends": true
},
{
"id": 4002,
"name": "buildingfootprint",
"parentLayerId": 4000,
"defaultVisibility": true,
"subLayerIds": null,
"minScale": 0,
"maxScale": 0,
"type": "Feature Layer",
"geometryType": "esriGeometryPolygon",
"supportsDynamicLegends": true
},
{
"id": 4003,
"name": "Park and Recreation P",
"parentLayerId": 4000,
"defaultVisibility": true,
"subLayerIds": null,
"minScale": 0,
"maxScale": 0,
"type": "Feature Layer",
"geometryType": "esriGeometryPoint",
"supportsDynamicLegends": true
},
{
"id": 4004,
"name": "Park and Recreation Area",
"parentLayerId": 4000,
"defaultVisibility": true,
"subLayerIds": null,
"minScale": 0,
"maxScale": 0,
"type": "Feature Layer",
"geometryType": "esriGeometryPolygon",
"supportsDynamicLegends": true
},
{
"id": 4005,
"name": "Gazetteer",
"parentLayerId": 4000,
"defaultVisibility": true,
"subLayerIds": null,
"minScale": 0,
"maxScale": 0,
"type": "Feature Layer",
"geometryType": "esriGeometryPoint",
"supportsDynamicLegends": true
},
{
"id": 4006,
"name": "Street Road Name",
"parentLayerId": 4000,
"defaultVisibility": true,
"subLayerIds": null,
"minScale": 0,
"maxScale": 0,
"type": "Feature Layer",
"geometryType": "esriGeometryPolyline",
"supportsDynamicLegends": true
},
{
"id": 4007,
"name": "BCParks",
"parentLayerId": 4000,
"defaultVisibility": true,
"subLayerIds": null,
"minScale": 0,
"maxScale": 0,
"type": "Feature Layer",
"geometryType": "esriGeometryPolygon",
"supportsDynamicLegends": true
},
{
"id": 4008,
"name": "FreshWaterAtlas",
"parentLayerId": 4000,
"defaultVisibility": true,
"subLayerIds": [
4009,
4010,
4011,
4012
],
"minScale": 0,
"maxScale": 0,
"type": "Group Layer",
"supportsDynamicLegends": false
},
{
"id": 4009,
"name": "Lake - Point",
"parentLayerId": 4008,
"defaultVisibility": true,
"subLayerIds": null,
"minScale": 0,
"maxScale": 0,
"type": "Feature Layer",
"geometryType": "esriGeometryPoint",
"supportsDynamicLegends": true
},
{
"id": 4010,
"name": "Lakes",
"parentLayerId": 4008,
"defaultVisibility": true,
"subLayerIds": null,
"minScale": 0,
"maxScale": 0,
"type": "Feature Layer",
"geometryType": "esriGeometryPolygon",
"supportsDynamicLegends": true
},
{
"id": 4011,
"name": "Rivers",
"parentLayerId": 4008,
"defaultVisibility": true,
"subLayerIds": null,
"minScale": 0,
"maxScale": 0,
"type": "Feature Layer",
"geometryType": "esriGeometryPolygon",
"supportsDynamicLegends": true
},
{
"id": 4012,
"name": "Streams",
"parentLayerId": 4008,
"defaultVisibility": true,
"subLayerIds": null,
"minScale": 0,
"maxScale": 0,
"type": "Feature Layer",
"geometryType": "esriGeometryPolyline",
"supportsDynamicLegends": true
},
{
"id": 5000,
"name": "12k",
"parentLayerId": -1,
"defaultVisibility": true,
"subLayerIds": [
5001,
5002,
5003,
5004,
5005,
5006
],
"minScale": 15000,
"maxScale": 7501,
"type": "Group Layer",
"supportsDynamicLegends": false
},
{
"id": 5001,
"name": "dra",
"parentLayerId": 5000,
"defaultVisibility": true,
"subLayerIds": null,
"minScale": 0,
"maxScale": 0,
"type": "Feature Layer",
"geometryType": "esriGeometryPolyline",
"supportsDynamicLegends": true
},
{
"id": 5002,
"name": "buildingfootprint",
"parentLayerId": 5000,
"defaultVisibility": true,
"subLayerIds": null,
"minScale": 0,
"maxScale": 0,
"type": "Feature Layer",
"geometryType": "esriGeometryPolygon",
"supportsDynamicLegends": true
},
{
"id": 5003,
"name": "Park and Recreation P",
"parentLayerId": 5000,
"defaultVisibility": true,
"subLayerIds": null,
"minScale": 0,
"maxScale": 0,
"type": "Feature Layer",
"geometryType": "esriGeometryPoint",
"supportsDynamicLegends": true
},
{
"id": 5004,
"name": "Park and Recreation Area",
"parentLayerId": 5000,
"defaultVisibility": false,
"subLayerIds": null,
"minScale": 0,
"maxScale": 0,
"type": "Feature Layer",
"geometryType": "esriGeometryPolygon",
"supportsDynamicLegends": true
},
{
"id": 5005,
"name": "Street Road Name",
"parentLayerId": 5000,
"defaultVisibility": true,
"subLayerIds": null,
"minScale": 0,
"maxScale": 0,
"type": "Feature Layer",
"geometryType": "esriGeometryPolyline",
"supportsDynamicLegends": true
},
{
"id": 5006,
"name": "FreshWaterAtlas",
"parentLayerId": 5000,
"defaultVisibility": true,
"subLayerIds": [
5007,
5008,
5009,
5010
],
"minScale": 0,
"maxScale": 0,
"type": "Group Layer",
"supportsDynamicLegends": false
},
{
"id": 5007,
"name": "Lake - Point",
"parentLayerId": 5006,
"defaultVisibility": true,
"subLayerIds": null,
"minScale": 0,
"maxScale": 0,
"type": "Feature Layer",
"geometryType": "esriGeometryPoint",
"supportsDynamicLegends": true
},
{
"id": 5008,
"name": "Lakes",
"parentLayerId": 5006,
"defaultVisibility": true,
"subLayerIds": null,
"minScale": 0,
"maxScale": 0,
"type": "Feature Layer",
"geometryType": "esriGeometryPolygon",
"supportsDynamicLegends": true
},
{
"id": 5009,
"name": "Rivers",
"parentLayerId": 5006,
"defaultVisibility": true,
"subLayerIds": null,
"minScale": 0,
"maxScale": 0,
"type": "Feature Layer",
"geometryType": "esriGeometryPolygon",
"supportsDynamicLegends": true
},
{
"id": 5010,
"name": "Streams",
"parentLayerId": 5006,
"defaultVisibility": true,
"subLayerIds": null,
"minScale": 0,
"maxScale": 0,
"type": "Feature Layer",
"geometryType": "esriGeometryPolyline",
"supportsDynamicLegends": true
},
{
"id": 6000,
"name": "5k",
"parentLayerId": -1,
"defaultVisibility": true,
"subLayerIds": [
6001,
6002,
6003,
6004,
6005
],
"minScale": 7500,
"maxScale": 2501,
"type": "Group Layer",
"supportsDynamicLegends": false
},
{
"id": 6001,
"name": "buildingfootprint",
"parentLayerId": 6000,
"defaultVisibility": true,
"subLayerIds": null,
"minScale": 0,
"maxScale": 0,
"type": "Feature Layer",
"geometryType": "esriGeometryPolygon",
"supportsDynamicLegends": true
},
{
"id": 6002,
"name": "Park and Recreation P",
"parentLayerId": 6000,
"defaultVisibility": true,
"subLayerIds": null,
"minScale": 0,
"maxScale": 0,
"type": "Feature Layer",
"geometryType": "esriGeometryPoint",
"supportsDynamicLegends": true
},
{
"id": 6003,
"name": "Park and Recreation Area",
"parentLayerId": 6000,
"defaultVisibility": true,
"subLayerIds": null,
"minScale": 0,
"maxScale": 0,
"type": "Feature Layer",
"geometryType": "esriGeometryPolygon",
"supportsDynamicLegends": true
},
{
"id": 6004,
"name": "Street Road Name",
"parentLayerId": 6000,
"defaultVisibility": true,
"subLayerIds": null,
"minScale": 0,
"maxScale": 0,
"type": "Feature Layer",
"geometryType": "esriGeometryPolyline",
"supportsDynamicLegends": true
},
{
"id": 6005,
"name": "FreshWaterAtlas",
"parentLayerId": 6000,
"defaultVisibility": true,
"subLayerIds": [
6006,
6007,
6008,
6009
],
"minScale": 0,
"maxScale": 0,
"type": "Group Layer",
"supportsDynamicLegends": false
},
{
"id": 6006,
"name": "Lake - Point",
"parentLayerId": 6005,
"defaultVisibility": true,
"subLayerIds": null,
"minScale": 0,
"maxScale": 0,
"type": "Feature Layer",
"geometryType": "esriGeometryPoint",
"supportsDynamicLegends": true
},
{
"id": 6007,
"name": "Lakes",
"parentLayerId": 6005,
"defaultVisibility": true,
"subLayerIds": null,
"minScale": 0,
"maxScale": 0,
"type": "Feature Layer",
"geometryType": "esriGeometryPolygon",
"supportsDynamicLegends": true
},
{
"id": 6008,
"name": "Rivers",
"parentLayerId": 6005,
"defaultVisibility": true,
"subLayerIds": null,
"minScale": 0,
"maxScale": 0,
"type": "Feature Layer",
"geometryType": "esriGeometryPolygon",
"supportsDynamicLegends": true
},
{
"id": 6009,
"name": "Streams",
"parentLayerId": 6005,
"defaultVisibility": true,
"subLayerIds": null,
"minScale": 0,
"maxScale": 0,
"type": "Feature Layer",
"geometryType": "esriGeometryPolyline",
"supportsDynamicLegends": true
},
{
"id": 7000,
"name": "1k",
"parentLayerId": -1,
"defaultVisibility": true,
"subLayerIds": [
7001,
7002,
7003
],
"minScale": 2500,
"maxScale": 751,
"type": "Group Layer",
"supportsDynamicLegends": false
},
{
"id": 7001,
"name": "buildingfootprint",
"parentLayerId": 7000,
"defaultVisibility": true,
"subLayerIds": null,
"minScale": 0,
"maxScale": 0,
"type": "Feature Layer",
"geometryType": "esriGeometryPolygon",
"supportsDynamicLegends": true
},
{
"id": 7002,
"name": "Park and Recreation P",
"parentLayerId": 7000,
"defaultVisibility": true,
"subLayerIds": null,
"minScale": 0,
"maxScale": 0,
"type": "Feature Layer",
"geometryType": "esriGeometryPoint",
"supportsDynamicLegends": true
},
{
"id": 7003,
"name": "FreshWaterAtlas",
"parentLayerId": 7000,
"defaultVisibility": true,
"subLayerIds": [
7004,
7005,
7006,
7008
],
"minScale": 0,
"maxScale": 0,
"type": "Group Layer",
"supportsDynamicLegends": false
},
{
"id": 7004,
"name": "Lake - Point",
"parentLayerId": 7003,
"defaultVisibility": true,
"subLayerIds": null,
"minScale": 0,
"maxScale": 0,
"type": "Feature Layer",
"geometryType": "esriGeometryPoint",
"supportsDynamicLegends": true
},
{
"id": 7005,
"name": "Lakes",
"parentLayerId": 7003,
"defaultVisibility": true,
"subLayerIds": null,
"minScale": 0,
"maxScale": 0,
"type": "Feature Layer",
"geometryType": "esriGeometryPolygon",
"supportsDynamicLegends": true
},
{
"id": 7006,
"name": "Rivers",
"parentLayerId": 7003,
"defaultVisibility": true,
"subLayerIds": null,
"minScale": 0,
"maxScale": 0,
"type": "Feature Layer",
"geometryType": "esriGeometryPolygon",
"supportsDynamicLegends": true
},
{
"id": 7008,
"name": "Streams",
"parentLayerId": 7003,
"defaultVisibility": true,
"subLayerIds": null,
"minScale": 0,
"maxScale": 0,
"type": "Feature Layer",
"geometryType": "esriGeometryPolyline",
"supportsDynamicLegends": true
},
{
"id": 8000,
"name": "100 - 500",
"parentLayerId": -1,
"defaultVisibility": true,
"subLayerIds": [
8001,
8002,
8003
],
"minScale": 750,
"maxScale": 50,
"type": "Group Layer",
"supportsDynamicLegends": false
},
{
"id": 8001,
"name": "buildingfootprint",
"parentLayerId": 8000,
"defaultVisibility": true,
"subLayerIds": null,
"minScale": 0,
"maxScale": 0,
"type": "Feature Layer",
"geometryType": "esriGeometryPolygon",
"supportsDynamicLegends": true
},
{
"id": 8002,
"name": "Park and Recreation P",
"parentLayerId": 8000,
"defaultVisibility": true,
"subLayerIds": null,
"minScale": 0,
"maxScale": 0,
"type": "Feature Layer",
"geometryType": "esriGeometryPoint",
"supportsDynamicLegends": true
},
{
"id": 8003,
"name": "FreshWaterAtlas",
"parentLayerId": 8000,
"defaultVisibility": true,
"subLayerIds": [
8004,
8005,
8006,
8007
],
"minScale": 0,
"maxScale": 0,
"type": "Group Layer",
"supportsDynamicLegends": false
},
{
"id": 8004,
"name": "Lake- Point",
"parentLayerId": 8003,
"defaultVisibility": true,
"subLayerIds": null,
"minScale": 0,
"maxScale": 0,
"type": "Feature Layer",
"geometryType": "esriGeometryPoint",
"supportsDynamicLegends": true
},
{
"id": 8005,
"name": "Lakes",
"parentLayerId": 8003,
"defaultVisibility": true,
"subLayerIds": null,
"minScale": 0,
"maxScale": 0,
"type": "Feature Layer",
"geometryType": "esriGeometryPolygon",
"supportsDynamicLegends": true
},
{
"id": 8006,
"name": "Rivers",
"parentLayerId": 8003,
"defaultVisibility": true,
"subLayerIds": null,
"minScale": 0,
"maxScale": 0,
"type": "Feature Layer",
"geometryType": "esriGeometryPolygon",
"supportsDynamicLegends": true
},
{
"id": 8007,
"name": "Streams",
"parentLayerId": 8003,
"defaultVisibility": true,
"subLayerIds": null,
"minScale": 0,
"maxScale": 0,
"type": "Feature Layer",
"geometryType": "esriGeometryPolyline",
"supportsDynamicLegends": true
},
{
"id": 9000,
"name": "Penticton_2024",
"parentLayerId": -1,
"defaultVisibility": true,
"subLayerIds": [
9001,
9002,
9003
],
"minScale": 0,
"maxScale": 0,
"type": "Mosaic Layer",
"supportsDynamicLegends": false
},
{
"id": 9001,
"name": "Boundary",
"parentLayerId": 9000,
"defaultVisibility": false,
"subLayerIds": null,
"minScale": 0,
"maxScale": 0,
"type": "Feature Layer",
"geometryType": "esriGeometryPolygon",
"supportsDynamicLegends": true
},
{
"id": 9002,
"name": "Footprint",
"parentLayerId": 9000,
"defaultVisibility": false,
"subLayerIds": null,
"minScale": 0,
"maxScale": 0,
"type": "Feature Layer",
"geometryType": "esriGeometryPolygon",
"supportsDynamicLegends": true
},
{
"id": 9003,
"name": "Image",
"parentLayerId": 9000,
"defaultVisibility": true,
"subLayerIds": null,
"minScale": 0,
"maxScale": 0,
"type": "Raster Layer",
"supportsDynamicLegends": true
},
{
"id": 10000,
"name": "LandSAT",
"parentLayerId": -1,
"defaultVisibility": true,
"subLayerIds": null,
"minScale": 500000,
"maxScale": 0,
"type": "Raster Layer",
"supportsDynamicLegends": true
}
],
"tables": [],
"spatialReference": {
"wkid": 2153,
"latestWkid": 2955,
"xyTolerance": 0.001,
"zTolerance": 0.001,
"mTolerance": 0.001,
"falseX": -5120900,
"falseY": -9998100,
"xyUnits": 10000,
"falseZ": -100000,
"zUnits": 10000,
"falseM": -100000,
"mUnits": 10000
},
"singleFusedMapCache": true,
"tileInfo": {
"rows": 256,
"cols": 256,
"dpi": 96,
"format": "MIXED",
"compressionQuality": 75,
"origin": {
"x": -5120900,
"y": 9998100
},
"spatialReference": {
"wkid": 2153,
"latestWkid": 2955,
"xyTolerance": 0.001,
"zTolerance": 0.001,
"mTolerance": 0.001,
"falseX": -5120900,
"falseY": -9998100,
"xyUnits": 10000,
"falseZ": -100000,
"zUnits": 10000,
"falseM": -100000,
"mUnits": 10000
},
"lods": [
{
"level": 0,
"resolution": 52.91677250021167,
"scale": 200000
},
{
"level": 1,
"resolution": 46.30217593768521,
"scale": 175000
},
{
"level": 2,
"resolution": 39.687579375158755,
"scale": 150000
},
{
"level": 3,
"resolution": 33.0729828126323,
"scale": 125000
},
{
"level": 4,
"resolution": 26.458386250105836,
"scale": 100000
},
{
"level": 5,
"resolution": 19.843789687579378,
"scale": 75000
},
{
"level": 6,
"resolution": 13.229193125052918,
"scale": 50000
},
{
"level": 7,
"resolution": 6.614596562526459,
"scale": 25000
},
{
"level": 8,
"resolution": 5.291677250021167,
"scale": 20000
},
{
"level": 9,
"resolution": 3.9687579375158752,
"scale": 15000
},
{
"level": 10,
"resolution": 3.3072982812632294,
"scale": 12500
},
{
"level": 11,
"resolution": 2.6458386250105836,
"scale": 10000
},
{
"level": 12,
"resolution": 1.9843789687579376,
"scale": 7500
},
{
"level": 13,
"resolution": 1.3229193125052918,
"scale": 5000
},
{
"level": 14,
"resolution": 0.9921894843789688,
"scale": 3750
},
{
"level": 15,
"resolution": 0.6614596562526459,
"scale": 2500
},
{
"level": 16,
"resolution": 0.46302175937685214,
"scale": 1750
},
{
"level": 17,
"resolution": 0.26458386250105836,
"scale": 1000
},
{
"level": 18,
"resolution": 0.19843789687579377,
"scale": 750
},
{
"level": 19,
"resolution": 0.13229193125052918,
"scale": 500
},
{
"level": 20,
"resolution": 0.06614596562526459,
"scale": 250
},
{
"level": 21,
"resolution": 0.026458386250105836,
"scale": 100
}
]
},
"storageInfo": {
"storageFormat": "esriMapCacheStorageModeCompactV2",
"packetSize": 128
},
"initialExtent": {
"xmin": 285425.3403474579,
"ymin": 5464657.128077003,
"xmax": 344134.76396116416,
"ymax": 5506505.8917706935,
"spatialReference": {
"wkid": 2153,
"latestWkid": 2955,
"xyTolerance": 0.001,
"zTolerance": 0.001,
"mTolerance": 0.001,
"falseX": -5120900,
"falseY": -9998100,
"xyUnits": 10000,
"falseZ": -100000,
"zUnits": 10000,
"falseM": -100000,
"mUnits": 10000
}
},
"fullExtent": {
"xmin": -714787.3446000004,
"ymin": 5368992.375700001,
"xmax": 715340.8031000001,
"ymax": 6857729.811299998,
"spatialReference": {
"wkid": 2153,
"latestWkid": 2955,
"xyTolerance": 0.001,
"zTolerance": 0.001,
"mTolerance": 0.001,
"falseX": -5120900,
"falseY": -9998100,
"xyUnits": 10000,
"falseZ": -100000,
"zUnits": 10000,
"falseM": -100000,
"mUnits": 10000
}
},
"datesInUnknownTimezone": false,
"minScale": 200000,
"maxScale": 100,
"units": "esriMeters",
"supportedImageFormatTypes": "PNG32,PNG24,PNG,JPG,DIB,TIFF,EMF,PS,PDF,GIF,SVG,SVGZ,BMP",
"documentInfo": {
"Title": "orthobasemap_Current",
"Author": "",
"Comments": " 3 band imagery provided by Nearmap with 7.62 cm resolution. This imagery was flown June 19, 20, & 24, 2024.<\/SPAN><\/SPAN><\/P><\/DIV><\/DIV><\/DIV>",
"Subject": "Nearmap Imagery of the City of Penticton which was taken on June 19, 20, & 24, 2024.",
"Category": "",
"AntialiasingMode": "Fast",
"TextAntialiasingMode": "Force",
"Version": "2.9.0",
"Keywords": "2024"
},
"supportsQueryDomains": true,
"capabilities": "Map,Query,Data",
"supportedQueryFormats": "JSON, geoJSON, PBF",
"exportTilesAllowed": false,
"referenceScale": 0.0,
"datumTransformations": [
{
"geoTransforms": [
{
"wkid": 108190,
"latestWkid": 108190,
"transformForward": false,
"name": "WGS_1984_(ITRF00)_To_NAD_1983"
},
{
"wkid": 1946,
"latestWkid": 1946,
"transformForward": false,
"name": "NAD_1983_CSRS_To_WGS_1984_2"
}
]
},
{
"geoTransforms": [
{
"wkid": 1946,
"latestWkid": 1946,
"transformForward": true,
"name": "NAD_1983_CSRS_To_WGS_1984_2"
},
{
"wkid": 108190,
"latestWkid": 108190,
"transformForward": true,
"name": "WGS_1984_(ITRF00)_To_NAD_1983"
}
]
},
{
"geoTransforms": [
{
"wkid": 1946,
"latestWkid": 1946,
"transformForward": false,
"name": "NAD_1983_CSRS_To_WGS_1984_2"
}
]
},
{
"geoTransforms": [
{
"wkid": 1946,
"latestWkid": 1946,
"transformForward": true,
"name": "NAD_1983_CSRS_To_WGS_1984_2"
}
]
}
],
"supportsDatumTransformation": true,
"floorAwareMapProperties": {
"defaultFloorFilterSettings": {"isEnabled": true}
},
"archivingInfo": {"supportsHistoricMoment": false},
"supportsClipping": true,
"supportsSpatialFilter": true,
"supportsTimeRelation": true,
"supportsQueryDataElements": true,
"maxRecordCount": 2000,
"maxImageHeight": 4096,
"maxImageWidth": 4096,
"supportedExtensions": "",
"resampling": false,
"serviceItemId": "1ca5a46953be47b7b9eec3e7025d0c17"
}